BEGIN:VCALENDAR
VERSION:2.0
PRODID:-//Afrolgbt - ECPv6.0.12//NONSGML v1.0//EN
CALSCALE:GREGORIAN
METHOD:PUBLISH
X-WR-CALNAME:Afrolgbt
X-ORIGINAL-URL:http://afrolgbt.ch
X-WR-CALDESC:évènements pour Afrolgbt
REFRESH-INTERVAL;VALUE=DURATION:PT1H
X-Robots-Tag:noindex
X-PUBLISHED-TTL:PT1H
BEGIN:VTIMEZONE
TZID:Europe/Paris
BEGIN:DAYLIGHT
TZOFFSETFROM:+0100
TZOFFSETTO:+0200
TZNAME:CEST
DTSTART:20230326T010000
END:DAYLIGHT
BEGIN:STANDARD
TZOFFSETFROM:+0200
TZOFFSETTO:+0100
TZNAME:CET
DTSTART:20231029T010000
END:STANDARD
END:VTIMEZONE
BEGIN:VEVENT
DTSTART;TZID=Europe/Paris:20230518T140000
DTEND;TZID=Europe/Paris:20230518T180000
DTSTAMP:20260423T125743
CREATED:20230415T060348Z
LAST-MODIFIED:20230415T070754Z
UID:2929-1684418400-1684432800@afrolgbt.ch
SUMMARY:BBQ Afro pour soutenir Afrolgbt - Dégustez des saveurs authentiques en soutenant une grande cause
DESCRIPTION:Venez profiter de notre buffet afro à volonté pour seulement 50 francs suisse par personne. Vous pourrez déguster des plats savoureux et authentiques tels que le poulet yassa\, le riz jollof\, le mafé et bien plus encore. Tous les fonds récoltés iront à l’association Afrolgbt pour soutenir leur travail important dans la promotion des droits et de l’inclusion de la communauté Afro-LGBTQ+. \n Le barbecue aura lieu le 18 mai 2023 dans le parc La Grange\, à l’adresse suivante : chemin de la Grange 3\, 1208 Genève.  \nNous espérons vous y voir nombreux !
URL:http://afrolgbt.ch/evenement/bbq-afro-pour-soutenir-afrolgbt-degustez-des-saveurs-authentiques-en-soutenant-une-grande-cause/
LOCATION:Parc La Grange\, chemin de la Grange 3\, Genève\, 1208\, Suisse
CATEGORIES:Barbecue
ATTACH;FMTTYPE=image/jpeg:http://afrolgbt.ch/wp-content/uploads/2023/04/iStock-472719534-1152x768-1.jpg
ORGANIZER;CN="Association%20Afrolgbt":MAILTO:afrolgbt99@gmail.com
END:VEVENT
END:VCALENDAR